BEGIN:VCALENDAR
VERSION:2.0
PRODID:-//ChamberMaster//Event Calendar 2.0//EN
METHOD:PUBLISH
X-PUBLISHED-TTL:P3D
REFRESH-INTERVAL:P3D
CALSCALE:GREGORIAN
BEGIN:VEVENT
DTSTART:20230217T150000Z
DTEND:20230217T190000Z
X-MICROSOFT-CDO-ALLDAYEVENT:FALSE
SUMMARY:Arbor Day Seedling Giveaway
DESCRIPTION:The Moultrie-Colquitt County Chamber of Commerce will host an Arbor Day Event on Friday\, Feb. 17th from 10am-2pm (while they last) on the Chamber front lawn. We have partnered with the Georgia Forestry Commission to give away fresh seedlings. Planting trees is a great benefit to our community and our planet. Stop by and pick up some seedlings to plant at your business or home. This event is a part of the Chamber's Keep Colquitt County Beautiful program.
X-ALT-DESC;FMTTYPE=text/html:The Moultrie-Colquitt County Chamber of Commerce will host an Arbor Day Event on Friday\, Feb. 17th from 10am-2pm (while they last) on the Chamber front lawn. We have partnered with the Georgia Forestry Commission to give away fresh seedlings. Planting trees is a great benefit to our community and our planet. Stop by and pick up some seedlings to plant at your business or home. This event is a part of the Chamber&#39\;s Keep Colquitt County Beautiful program.&nbsp\;
LOCATION:MCC Chamber of Commerce 116 1st Ave SE Moultrie\, GA
UID:e.570.13049
SEQUENCE:3
DTSTAMP:20260425T021957Z
URL:https://business.moultriechamber.com/events/details/arbor-day-seedling-giveaway-13049
END:VEVENT

END:VCALENDAR
