BEGIN:VCALENDAR
VERSION:2.0
PRODID:-//ChamberMaster//Event Calendar 2.0//EN
METHOD:PUBLISH
X-PUBLISHED-TTL:P3D
REFRESH-INTERVAL:P3D
CALSCALE:GREGORIAN
BEGIN:VEVENT
DTSTART:20240312T220000Z
DTEND:20240313T010000Z
X-MICROSOFT-CDO-ALLDAYEVENT:FALSE
SUMMARY:Annual Banquet
DESCRIPTION:Save the Date! The Chamber Annual Meeting is a time too celebrate our community and the outstanding individuals whose contributions have made it the greatest place to live and work.
X-ALT-DESC;FMTTYPE=text/html:<strong><span style="font-size:16px\;"><span style="font-family:times new roman\;">Save the Date!</span></span></strong> The Chamber Annual Meeting is a time too celebrate our community and the outstanding individuals whose contributions have made it the greatest place to live and work.&nbsp\;
LOCATION:Mulkey-Ndawula Event Center - Southwest Georgia Community Action Council 912 1st Ave SE Moultrie\, Ga
UID:e.570.13222
SEQUENCE:3
DTSTAMP:20260424T105519Z
URL:https://business.moultriechamber.com/events/details/annual-banquet-13222
END:VEVENT

END:VCALENDAR
