BEGIN:VCALENDAR
VERSION:2.0
PRODID:-//ChamberMaster//Event Calendar 2.0//EN
METHOD:PUBLISH
X-PUBLISHED-TTL:P3D
REFRESH-INTERVAL:P3D
CALSCALE:GREGORIAN
BEGIN:VEVENT
DTSTART:20230626T182500Z
DTEND:20230626T193000Z
X-MICROSOFT-CDO-ALLDAYEVENT:FALSE
SUMMARY:Animal Adventures @ the Doerun Library
DESCRIPTION:An edzoocation expert and animal ambassadors will teach us about cool animal alliances. Animal Tales with their furry\, scaly\, and feathered friends will give us a chance to see these animals in action and learn all about how different animals form alliances in nature to survive.
X-ALT-DESC;FMTTYPE=text/html:An edzoocation expert and animal ambassadors will teach us about cool animal alliances. Animal Tales with their furry\, scaly\, and feathered friends will give us a chance to see these animals in action and learn all about how different animals form alliances in nature to survive.
LOCATION:Doerun Municipal Library 185 N Freeman St Doerun\, Ga
UID:e.570.13173
SEQUENCE:3
DTSTAMP:20260424T222708Z
URL:https://business.moultriechamber.com/events/details/animal-adventures-the-doerun-library-13173
END:VEVENT

END:VCALENDAR
