BEGIN:VCALENDAR
VERSION:2.0
PRODID:-//ChamberMaster//Event Calendar 2.0//EN
METHOD:PUBLISH
X-PUBLISHED-TTL:P3D
REFRESH-INTERVAL:P3D
CALSCALE:GREGORIAN
BEGIN:VEVENT
DTSTART:20230626T143000Z
DTEND:20230626T153000Z
X-MICROSOFT-CDO-ALLDAYEVENT:FALSE
SUMMARY:Anim al Tales @ the Library
DESCRIPTION:An edzoocation expert and animal ambassadors will teach us about cool animal alliances. Animal Tales with their furry\, scaly\, and feathered friends will give us a chance to see these animals in action and learn all about how different animals form alliances in nature to survive.
X-ALT-DESC;FMTTYPE=text/html:An edzoocation expert and animal ambassadors will teach us about cool animal alliances. Animal Tales with their furry\, scaly\, and feathered friends will give us a chance to see these animals in action and learn all about how different animals form alliances in nature to survive.
LOCATION:Moultrie Library 204 5th St\, SE Moultrie\, Ga
UID:e.570.13172
SEQUENCE:3
DTSTAMP:20260424T210638Z
URL:https://business.moultriechamber.com/events/details/anim-al-tales-the-library-13172
END:VEVENT

END:VCALENDAR
