BEGIN:VCALENDAR
VERSION:2.0
PRODID:-//ChamberMaster//Event Calendar 2.0//EN
METHOD:PUBLISH
X-PUBLISHED-TTL:P3D
REFRESH-INTERVAL:P3D
CALSCALE:GREGORIAN
BEGIN:VEVENT
DTSTART:20250121T200000Z
DTEND:20250121T210000Z
X-MICROSOFT-CDO-ALLDAYEVENT:FALSE
SUMMARY:Alice in Wonderland\, Jr.
DESCRIPTION:Auditions: January 21\, 6-8 pm in the Theater\n\nAges: 5-18\n\nClass Registration Fee: $100 per month (for 2 months)\n\nRehearsals: January 27 - March 20\n\nMondays\, Tuesdays\, and Thursdays 5:30 - 6:30\n\nPerformances:\n\nMarch 21\, 7:00 - 8:00pm\n\nMarch 22\, 7:00 - 8:00pm\n\nMarch 23\, 2:00 - 3:00pm\n\nDirector: Maegan Viohl
X-ALT-DESC;FMTTYPE=text/html:<div class="xdj266r x11i5rnm xat24cr x1mh8g0r x1vvkbs" style="margin: 0px\; overflow-wrap: break-word\; font-family: &quot\;Segoe UI Historic&quot\;\, &quot\;Segoe UI&quot\;\, Helvetica\, Arial\, sans-serif\; color: rgb(8\, 8\, 9)\; font-size: 15px\;"><span style="font-size:14px\;">Auditions: January 21\, 6-8 pm in the Theater<br class="html-br" />\nAges: 5-18</span></div>\n\n<div class="x11i5rnm xat24cr x1mh8g0r x1vvkbs xtlvy1s" style="margin: 0.5em 0px 0px\; overflow-wrap: break-word\; font-family: &quot\;Segoe UI Historic&quot\;\, &quot\;Segoe UI&quot\;\, Helvetica\, Arial\, sans-serif\; color: rgb(8\, 8\, 9)\; font-size: 15px\;"><span style="font-size:14px\;">Class Registration Fee: $100 per month (for 2 months)</span></div>\n\n<div class="x11i5rnm xat24cr x1mh8g0r x1vvkbs xtlvy1s" style="margin: 0.5em 0px 0px\; overflow-wrap: break-word\; font-family: &quot\;Segoe UI Historic&quot\;\, &quot\;Segoe UI&quot\;\, Helvetica\, Arial\, sans-serif\; color: rgb(8\, 8\, 9)\; font-size: 15px\;"><span style="font-size:14px\;">Rehearsals: January 27 - March 20<br class="html-br" />\nMondays\, Tuesdays\, and Thursdays 5:30 - 6:30</span></div>\n\n<div class="x11i5rnm xat24cr x1mh8g0r x1vvkbs xtlvy1s" style="margin: 0.5em 0px 0px\; overflow-wrap: break-word\; font-family: &quot\;Segoe UI Historic&quot\;\, &quot\;Segoe UI&quot\;\, Helvetica\, Arial\, sans-serif\; color: rgb(8\, 8\, 9)\; font-size: 15px\;"><span style="font-size:14px\;">Performances:<br class="html-br" />\nMarch 21\, 7:00 - 8:00pm<br class="html-br" />\nMarch 22\, 7:00 - 8:00pm<br class="html-br" />\nMarch 23\, 2:00 - 3:00pm</span></div>\n\n<div class="x11i5rnm xat24cr x1mh8g0r x1vvkbs xtlvy1s" style="margin: 0.5em 0px 0px\; overflow-wrap: break-word\; font-family: &quot\;Segoe UI Historic&quot\;\, &quot\;Segoe UI&quot\;\, Helvetica\, Arial\, sans-serif\; color: rgb(8\, 8\, 9)\; font-size: 15px\;"><span style="font-size:14px\;">Director: Maegan Viohl</span></div>\n
LOCATION:Arts Center of Moultrie: 401 7th Ave Moultrie\, GA 31768
UID:e.570.13333
SEQUENCE:3
DTSTAMP:20260423T213752Z
URL:https://business.moultriechamber.com/events/details/alice-in-wonderland-jr-13333
END:VEVENT

END:VCALENDAR
