BEGIN:VCALENDAR
VERSION:2.0
PRODID:-//ChamberMaster//Event Calendar 2.0//EN
METHOD:PUBLISH
X-PUBLISHED-TTL:P3D
REFRESH-INTERVAL:P3D
CALSCALE:GREGORIAN
BEGIN:VEVENT
DTSTART:20250529T170000Z
DTEND:20250529T180000Z
X-MICROSOFT-CDO-ALLDAYEVENT:FALSE
SUMMARY:AI Training for Small Businesses
DESCRIPTION:We're excited to offer you an exclusive opportunity to elevate your business with cutting-edge AI knowledge! Join us on Thursday\, May 29th at 1PM for a special 90-minute webinar designed specifically for business owners like you.\n\n\n\nWhat you'll learn:\n\n- Save Time: Uncover how AI can streamline your daily tasks\, giving you more time to focus on growing your business.\n\n- Boost Productivity: Learn AI strategies that will help your and your team get more done with less effort.\n\n- Enhance Creativity: Discover how to use AI to create professional\, eye-catching marketing materials that stand out.\n\n\n\nTune in live or on-demand from your home or office. No reliable internet? No problem - join us for a live version at the Chamber office!\n\nThis is a members-only benefit - a unique chance to gain valuable skills and stay ahead in today's competitive market.
X-ALT-DESC;FMTTYPE=text/html:<div data-block="true" data-editor="cr2vm" data-offset-key="dem1q-0-0" style="color: rgb(28\, 43\, 51)\; font-size: 14px\; white-space-collapse: preserve\; background-color: rgb(255\, 255\, 255)\;">\n<div class="_1mf _1mj" data-offset-key="dem1q-0-0" style="position: relative\; direction: ltr\;">\n<div data-block="true" data-editor="cr2vm" data-offset-key="dem1q-0-0" style="color: rgb(28\, 43\, 51)\; font-size: 14px\; white-space-collapse: preserve\; background-color: rgb(255\, 255\, 255)\;">\n<div class="_1mf _1mj" data-offset-key="dem1q-0-0" style="position: relative\; direction: ltr\;"><span data-offset-key="dem1q-0-0" style=""><font face="verdana">We&#39\;re excited to offer you an exclusive opportunity to elevate your business with cutting-edge AI knowledge! Join us on Thursday\, May 29th at 1PM for a special 90-minute webinar designed specifically for business owners like you.<br />\n<br />\nWhat you&#39\;ll learn:<br />\n- Save Time: Uncover how AI can streamline your daily tasks\, giving you more time to focus on growing your business.<br />\n- Boost Productivity: Learn AI strategies that will help your and your team get more done with less effort.<br />\n- Enhance Creativity: Discover how to use AI to create professional\, eye-catching marketing materials that stand out.<br />\n<br />\nTune in live or on-demand from your home or office. No reliable internet? No problem - join us for a live version at the Chamber office!<br />\nThis is a members-only benefit - a unique chance to gain valuable skills and stay ahead in today&#39\;s competitive market.</font></span></div>\n</div>\n</div>\n</div>\n
LOCATION:This is a virtual webinar that you can attend from anywhere! Watch live or on-demand from the comfort of your home or office. If you prefer\, or if you don't have reliable internet access\, you're welcome to join us for a live viewing at our Chamber office!
UID:e.570.13349
SEQUENCE:3
DTSTAMP:20260423T162631Z
URL:https://business.moultriechamber.com/events/details/ai-training-for-small-businesses-13349
END:VEVENT

END:VCALENDAR
