BEGIN:VCALENDAR
VERSION:2.0
PRODID:-//ChamberMaster//Event Calendar 2.0//EN
METHOD:PUBLISH
X-PUBLISHED-TTL:P3D
REFRESH-INTERVAL:P3D
CALSCALE:GREGORIAN
BEGIN:VEVENT
DTSTART:20251021T150000Z
DTEND:20251021T170000Z
X-MICROSOFT-CDO-ALLDAYEVENT:FALSE
SUMMARY:AI for Marketing: A Small Business Superpower
DESCRIPTION:Imagine improving marketing content while reducing the time it takes to create it. Today's AI tools are helping businesses do just that. From large marketing agencies to solo entrepreneurs\, AI is being used to brainstorm\, plan\, and produce marketing content more efficiently than ever.\n\nParticipants will learn best practices for using AI to:\n\n	Define and refine target markets\n	Develop buyer personas\n	Create engaging social media content\n	Craft SEO-friendly web pages
X-ALT-DESC;FMTTYPE=text/html:<br />\n<span style="font-size:18px\;"><span style="color:black\;">Imagine improving marketing content while reducing the time it takes to create it. Today&rsquo\;s AI tools are helping businesses do just that. From large marketing agencies to solo entrepreneurs\, AI is being used to brainstorm\, plan\, and produce marketing content more efficiently than ever.</span><br />\n<span style="color:black\;">Participants will learn best practices for using AI to:</span></span>\n<ul>\n	<li style="color:black\;"><span style="font-size:18px\;">Define and refine target markets</span></li>\n	<li style="color:black\;"><span style="font-size:18px\;">Develop buyer personas</span></li>\n	<li style="color:black\;"><span style="font-size:18px\;">Create engaging social media content</span></li>\n	<li style="color:black\;"><span style="font-size:18px\;">Craft SEO-friendly web pages</span></li>\n</ul>\n
LOCATION:Charles H. Kirbo Center 2500 E. Shotwell St. Room 111 Bainbridge\, GA 39819
UID:e.570.13433
SEQUENCE:3
DTSTAMP:20260423T152038Z
URL:https://business.moultriechamber.com/events/details/ai-for-marketing-a-small-business-superpower-13433
END:VEVENT

END:VCALENDAR
