BEGIN:VCALENDAR
VERSION:2.0
PRODID:-//ChamberMaster//Event Calendar 2.0//EN
METHOD:PUBLISH
X-PUBLISHED-TTL:P3D
REFRESH-INTERVAL:P3D
CALSCALE:GREGORIAN
BEGIN:VEVENT
DTSTART:20230429T143000Z
DTEND:20230429T160000Z
X-MICROSOFT-CDO-ALLDAYEVENT:FALSE
SUMMARY:African American Genealogy 101 – Laying the Foundation with Dr. Juanita Gaston
DESCRIPTION:African American Genealogy 101   Laying the Foundation with Dr. Juanita Gaston When you're a family history "newbie\," the prospect of diving into your roots research can seem daunting. This workshop will start you on the fun and rewarding journey of discovering your African American roots. African American genealogy involves some of the basic rules that all genealogists employ. Thus\, in this workshop\, you will learn how to begin\, where to look for information to extend your family tree\, what to do with what you find\, and how to put it all together. Dr. Juanita Gaston\, the instructor\, is a founding member of the Tallahassee African American Genealogical Society and is the owner of J G RootsFinders\, LLC. She specializes in African American Genealogy\, emphasizing Florida\, Georgia\, and Alabama. Juanita is a member of the Association of Professional Genealogists\, Afro-American Historical and Genealogical Society\, Inc.\, and several national\, state\, and local societies.
X-ALT-DESC;FMTTYPE=text/html:African American Genealogy 101 &ndash\; Laying the Foundation with Dr. Juanita Gaston When you&#39\;re a family history &ldquo\;newbie\,&rdquo\; the prospect of diving into your roots research can seem daunting. This workshop will start you on the fun and rewarding journey of discovering your African American roots. African American genealogy involves some of the basic rules that all genealogists employ. Thus\, in this workshop\, you will learn how to begin\, where to look for information to extend your family tree\, what to do with what you find\, and how to put it all together. Dr. Juanita Gaston\, the instructor\, is a founding member of the Tallahassee African American Genealogical Society and is the owner of J G RootsFinders\, LLC. She specializes in African American Genealogy\, emphasizing Florida\, Georgia\, and Alabama. Juanita is a member of the Association of Professional Genealogists\, Afro-American Historical and Genealogical Society\, Inc.\, and several national\, state\, and local societies.
LOCATION:Moultrie-Colquitt County Library 204 5th St. SE\, Moultrie\, GA
UID:e.570.13044
SEQUENCE:3
DTSTAMP:20260424T234155Z
URL:https://business.moultriechamber.com/events/details/african-american-genealogy-101-laying-the-foundation-with-dr-juanita-gaston-13044
END:VEVENT

END:VCALENDAR
