BEGIN:VCALENDAR
VERSION:2.0
PRODID:-//ChamberMaster//Event Calendar 2.0//EN
METHOD:PUBLISH
X-PUBLISHED-TTL:P3D
REFRESH-INTERVAL:P3D
CALSCALE:GREGORIAN
BEGIN:VEVENT
DTSTART:20230303T000000Z
DTEND:20230303T010000Z
X-MICROSOFT-CDO-ALLDAYEVENT:FALSE
SUMMARY:Adult Softball Informational Meeting
DESCRIPTION:Adult Softball Informational meeting March 2nd at 7pm! Anyone interested in playing this upcoming season or has questions pertaining to the sport is encouraged to come.
X-ALT-DESC;FMTTYPE=text/html:Adult Softball Informational meeting March 2nd at 7pm! Anyone interested in playing this upcoming season or has questions pertaining to the sport is encouraged to come.
LOCATION:MCCPRA Confrence room 10204th St Sw Moultrie\, GA 31768
UID:e.570.13021
SEQUENCE:3
DTSTAMP:20260425T010153Z
URL:https://business.moultriechamber.com/events/details/adult-softball-informational-meeting-13021
END:VEVENT

END:VCALENDAR
