BEGIN:VCALENDAR
VERSION:2.0
PRODID:-//ChamberMaster//Event Calendar 2.0//EN
METHOD:PUBLISH
X-PUBLISHED-TTL:P3D
REFRESH-INTERVAL:P3D
CALSCALE:GREGORIAN
BEGIN:VEVENT
DTSTART:20250821T124500Z
DTEND:20250821T190000Z
X-MICROSOFT-CDO-ALLDAYEVENT:FALSE
SUMMARY:AARP Smart Drivers Course
DESCRIPTION:The AARP Smart Driver Course will be held at Magnolia Manor South on August 21\, 2025\, from 8:45 AM to 3:00 PM. The course is $20 for AARP members\, free for AARP United Healthcare members (with card)\, and $25 for non-members. Lunch and refreshments will be provided\, and attendees are invited to enjoy a tour of the Magnolia Manor facility.\n\nTo reserve a spot\, call Yvonne Lee at (229) 985-0265 ext. 504 by August 20\, 2025.
X-ALT-DESC;FMTTYPE=text/html:<p data-end="487" data-start="122">The <strong data-end="154" data-start="126">AARP Smart Driver Course</strong> will be held at <strong data-end="195" data-start="171">Magnolia Manor South</strong> on <strong data-end="218" data-start="199">August 21\, 2025</strong>\, from <strong data-end="247" data-start="225">8:45 AM to 3:00 PM</strong>. The course is $20 for AARP members\, <strong data-end="293" data-start="285">free</strong> for AARP United Healthcare members (with card)\, and $25 for non-members. <strong data-end="410" data-start="367">Lunch and refreshments will be provided</strong>\, and attendees are invited to enjoy a tour of the Magnolia Manor facility.</p>\n\n<p data-end="578" data-start="489">To reserve a spot\, call <strong data-end="554" data-start="513">Yvonne Lee at (229) 985-0265 ext. 504</strong> by <strong data-end="577" data-start="558">August 20\, 2025</strong>.</p>\n
LOCATION:3011 Veterans Parkway Moultrie\, Ga 31788
UID:e.570.13389
SEQUENCE:3
DTSTAMP:20260423T110240Z
URL:https://business.moultriechamber.com/events/details/aarp-smart-drivers-course-13389
END:VEVENT

END:VCALENDAR
