BEGIN:VCALENDAR
VERSION:2.0
PRODID:-//ChamberMaster//Event Calendar 2.0//EN
METHOD:PUBLISH
X-PUBLISHED-TTL:P3D
REFRESH-INTERVAL:P3D
CALSCALE:GREGORIAN
BEGIN:VEVENT
DTSTART:20231208T000000Z
DTEND:20231208T020000Z
X-MICROSOFT-CDO-ALLDAYEVENT:FALSE
SUMMARY:A Chrsitmas Carol
DESCRIPTION:This holiday classic comes to life on the stage of the Arts Center. Follow Scrooge through the magical musical as he travels to the past\, present\, and future to discover his true self.
X-ALT-DESC;FMTTYPE=text/html:This holiday classic comes to life on the stage of the Arts Center. Follow Scrooge through the magical musical as he travels to the past\, present\, and future to discover his true self.
LOCATION:Arts Center of Moultrie
UID:e.570.13201
SEQUENCE:3
DTSTAMP:20260424T133933Z
URL:https://business.moultriechamber.com/events/details/a-chrsitmas-carol-13201
END:VEVENT

END:VCALENDAR
