BEGIN:VCALENDAR
VERSION:2.0
PRODID:-//ChamberMaster//Event Calendar 2.0//EN
METHOD:PUBLISH
X-PUBLISHED-TTL:P3D
REFRESH-INTERVAL:P3D
CALSCALE:GREGORIAN
BEGIN:VEVENT
DTSTART;VALUE=DATE:20250902
DTEND;VALUE=DATE:20250903
TRANSP:TRANSPARENT
X-MICROSOFT-CDO-ALLDAYEVENT:TRUE
SUMMARY:30/30/30 Fundraiser - Gun Raffle TICKETS ON SALE!
DESCRIPTION:30 Days. 30 Winners.\n\nThe Moultrie-Colquitt County Chamber of Commerce is proud to present our annual fall fundraiser: a month-long daily drawing event featuring premium outdoor gear.\n\nThis exciting community raffle includes 30 consecutive days of giveaways\, with each day offering a new opportunity to win high-quality items from trusted names like SIG Sauer\, Beretta\, Henry\, Savage\, and more.\n\nHere's how it works:\n\n\n	Tickets are $30 per entry\n	\n	Only 1\,000 entries will be sold\n	\n	\n	Drawings begin November 10 and continue daily for 30 days\n	\n	\n	Winning numbers are based on the Georgia Lottery's midday Cash 3 drawing\n	\n	\n	Each ticket number stays in for all 30 days   giving you multiple chances to win\n	\n\n\nTickets will be available beginning September 2 at select local businesses and at the Chamber office.\n\nProceeds from this fundraiser support local programs\, events\, and economic initiatives led by the Chamber throughout the year.\n\nJoin us\, support our community\, and take your shot at winning from some of the best outdoor brands in the business!
X-ALT-DESC;FMTTYPE=text/html:<h3 data-end="228" data-start="204">30 Days. 30 Winners.</h3>\n\n<p data-end="417" data-start="230">The Moultrie-Colquitt County Chamber of Commerce is proud to present our annual fall fundraiser: a month-long daily drawing event featuring premium outdoor gear.</p>\n\n<p data-end="628" data-start="419">This exciting community raffle includes 30 consecutive days of giveaways\, with each day offering a new opportunity to win high-quality items from trusted names like SIG Sauer\, Beretta\, Henry\, Savage\, and more.</p>\n\n<p data-end="652" data-start="630">Here&rsquo\;s how it works:</p>\n\n<ul data-end="939" data-start="653">\n	<li data-end="652" data-start="630">Tickets are $30 per entry</li>\n	<li data-end="718" data-start="683">\n	<p data-end="718" data-start="685">Only 1\,000 entries will be sold</p>\n	</li>\n	<li data-end="779" data-start="719">\n	<p data-end="779" data-start="721">Drawings begin November 10&nbsp\;and continue daily for 30 days</p>\n	</li>\n	<li data-end="856" data-start="780">\n	<p data-end="856" data-start="782">Winning numbers are based on the Georgia Lottery&rsquo\;s midday Cash 3 drawing</p>\n	</li>\n	<li data-end="939" data-start="857">\n	<p data-end="939" data-start="859">Each ticket number stays in for all 30 days &mdash\; giving you multiple chances to win</p>\n	</li>\n</ul>\n\n<p data-end="1081" data-start="941">Tickets will be available beginning September 2 at select local businesses and at the Chamber office.<br />\nProceeds from this fundraiser support local programs\, events\, and economic initiatives led by the Chamber throughout the year.</p>\n\n<p data-end="1326" data-start="1211">Join us\, support our community\, and take your shot at winning from some of the best outdoor brands in the business!</p>\n
LOCATION:Tickets on sale
UID:e.570.13384
SEQUENCE:3
DTSTAMP:20260423T141328Z
URL:https://business.moultriechamber.com/events/details/30-30-30-fundraiser-gun-raffle-tickets-on-sale-13384
END:VEVENT

END:VCALENDAR
