BEGIN:VCALENDAR
VERSION:2.0
PRODID:-//ChamberMaster//Event Calendar 2.0//EN
METHOD:PUBLISH
X-PUBLISHED-TTL:P3D
REFRESH-INTERVAL:P3D
CALSCALE:GREGORIAN
BEGIN:VEVENT
DTSTART:20230411T220000Z
DTEND:20230411T233000Z
X-MICROSOFT-CDO-ALLDAYEVENT:FALSE
SUMMARY:2nd Tuesday Library Crafters
DESCRIPTION:Second Tuesday Crafting - You are invited to join Melody Jenkins as she leads us to create unique treasures on the second Tuesday of each month. All materials will be provided but each participant will be asked to pay $5.00 for supplies for each project. Reserve your spot by calling 229-985-6540 or emailing amcnair@mccls.org. Seats are limited
X-ALT-DESC;FMTTYPE=text/html:Second Tuesday Crafting - You are invited to join Melody Jenkins as she leads us to create unique treasures on the second Tuesday of each month. All materials will be provided but each participant will be asked to pay $5.00 for supplies for each project. Reserve your spot by calling 229-985-6540 or emailing amcnair@mccls.org. Seats are limited
LOCATION:Moultrie-Colquitt County Library 204 5th St. SE\, Moultrie\, GA
UID:e.570.13034
SEQUENCE:3
DTSTAMP:20260424T234426Z
URL:https://business.moultriechamber.com/events/details/2nd-tuesday-library-crafters-04-11-2023-13034
END:VEVENT

END:VCALENDAR
