BEGIN:VCALENDAR
VERSION:2.0
PRODID:-//ChamberMaster//Event Calendar 2.0//EN
METHOD:PUBLISH
X-PUBLISHED-TTL:P3D
REFRESH-INTERVAL:P3D
CALSCALE:GREGORIAN
BEGIN:VEVENT
DTSTART:20230214T160000Z
DTEND:20230214T170000Z
X-MICROSOFT-CDO-ALLDAYEVENT:FALSE
SUMMARY:2nd Tuesday Book Club
DESCRIPTION:Especially for book lovers - We all read different books and then get together to share what we have read. There's lots of chatter and book talk. Everyone is welcome to this free session.
X-ALT-DESC;FMTTYPE=text/html:Especially for book lovers - We all read different books and then get together to share what we have read. There&#39\;s lots of chatter and book talk. Everyone is welcome to this free session.
LOCATION:Moultrie-Colquitt County Library 204 5th St\, SE Moultrie\, GA 31768
UID:e.570.13010
SEQUENCE:3
DTSTAMP:20260425T023148Z
URL:https://business.moultriechamber.com/events/details/2nd-tuesday-book-club-02-14-2023-13010
END:VEVENT

END:VCALENDAR
