BEGIN:VCALENDAR
VERSION:2.0
PRODID:-//ChamberMaster//Event Calendar 2.0//EN
METHOD:PUBLISH
X-PUBLISHED-TTL:P3D
REFRESH-INTERVAL:P3D
CALSCALE:GREGORIAN
BEGIN:VEVENT
DTSTART:20230408T142500Z
DTEND:20230408T160000Z
X-MICROSOFT-CDO-ALLDAYEVENT:FALSE
SUMMARY:2nd Saturday Hand & Foot @ the Library
DESCRIPTION:Join us at the library for a game of cards. The group usually plays Hand & Foot. If you don't know how to play but want to learn\, join us. We'll have light refreshments with lots of fellowship and laughter.
X-ALT-DESC;FMTTYPE=text/html:Join us at the library for a game of cards. The group usually plays Hand &amp\; Foot. If you don&#39\;t know how to play but want to learn\, join us. We&#39\;ll have light refreshments with lots of fellowship and laughter.
LOCATION:Moultrie-Colquitt County Library 204 5th St\, SE Moultrie\, GA
UID:e.570.13016
SEQUENCE:3
DTSTAMP:20260424T234703Z
URL:https://business.moultriechamber.com/events/details/2nd-saturday-hand-foot-the-library-04-08-2023-13016
END:VEVENT

END:VCALENDAR
