BEGIN:VCALENDAR
VERSION:2.0
PRODID:-//ChamberMaster//Event Calendar 2.0//EN
METHOD:PUBLISH
X-PUBLISHED-TTL:P3D
REFRESH-INTERVAL:P3D
CALSCALE:GREGORIAN
BEGIN:VEVENT
DTSTART:20240310T000000Z
DTEND:20240310T020000Z
X-MICROSOFT-CDO-ALLDAYEVENT:FALSE
SUMMARY:2nd Annual "Dancing with the Moultrie Stars" hosted by Mustard Seed Cottage\, Inc.
DESCRIPTION:Join us for a FUN show again this year as some of our well-known Moultrie "Stars" hit the stage and show off their personalities and talent.  We are so thankful for the feedback we got from last years show and are pleased to announce that the show will be a little longer this year as we have 12 "Stars" who are excited to support the Mustard Seed Cottage ministry.  We look forward to seeing you there.  Tickets are available at Clements Printing/Red Cardinal Designs and Surcheros Fresh Mex.  See you there!!!  Don't forget your $20's $50's and $100 bills to vote for your favorite Stars!
X-ALT-DESC;FMTTYPE=text/html:Join us for a FUN show again this year as some of our well-known Moultrie &quot\;Stars&quot\; hit the stage and show off their personalities and talent.&nbsp\; We are so thankful for the feedback we got from last years show and are pleased to announce that the show will be a little longer this year as we have 12 &quot\;Stars&quot\; who are excited to support the Mustard Seed Cottage ministry.&nbsp\; We look forward to seeing you there.&nbsp\; Tickets are available at Clements Printing/Red Cardinal Designs and Surcheros Fresh Mex.&nbsp\; See you there!!!&nbsp\; Don&#39\;t forget your $20&#39\;s $50&#39\;s and $100 bills to vote for your favorite Stars!
LOCATION:
UID:e.570.13249
SEQUENCE:3
DTSTAMP:20260424T100515Z
URL:https://business.moultriechamber.com/events/details/2nd-annual-dancing-with-the-moultrie-stars-13249
END:VEVENT

END:VCALENDAR
