BEGIN:VCALENDAR
VERSION:2.0
PRODID:-//ChamberMaster//Event Calendar 2.0//EN
METHOD:PUBLISH
X-PUBLISHED-TTL:P3D
REFRESH-INTERVAL:P3D
CALSCALE:GREGORIAN
BEGIN:VEVENT
DTSTART;VALUE=DATE:20260605
DTEND;VALUE=DATE:20260606
TRANSP:TRANSPARENT
X-MICROSOFT-CDO-ALLDAYEVENT:TRUE
SUMMARY:29th Annual Golf Tournament
DESCRIPTION:We're gearing up for our 29th Annual Golf Tournament on Friday\, June 5th at Sunset Country Club\, and we'd love your help making this one of our best events yet!\n\n \n\nThis all-day tournament features two flights   one in the morning at 8:00 AM and another in the afternoon at 1:00 PM. It promises to be a fun-filled day with great food\, prizes\, networking\, and friendly competition!\n\n \n\nHere's what's in store:\n\n	Teams of 4 players\n	Lunch provided for all players\n	Prizes: Winning teams (gross & net)\, Closest to the Pin\, Hole in One\, and more\n	Extras: Mulligans for $10/player\, 50/50 Ball Drop\, and the crowd-favorite "Toilet Hole"\n\n  \n\nPricing:\n\n\n	Morning Flight: $500/team OR $600/team with Hole Sponsorship\n	Afternoon Flight: $600/team OR $700/team with Hole Sponsorship\n\n   \n\nBe a Sponsor!\n\n\n	Hole Sponsorships ($125)   Includes a yard sign with your business name at one of the holes for the entire event!\n	Team Prize Sponsorships   Monetary donations between $50 $200 or prize items. All our Team Prizes will be bought through one or more of our local stores\, so that we do our part in giving back!\n	Swag Sponsor   Businesses are welcome to include any promotional items they'd like (flyers\, pens\, coupons\, branded merch\, etc.). This a perfect way to get your products or services into our players' hands! We'll be giving out 200 golf bags this year to all participating golfers.\n	Become a water sponsor! ($200)   Your business name will be displayed at all water holes on the course.\n	Lunch Sponsor ($300)   Sponsor our player's lunch!
X-ALT-DESC;FMTTYPE=text/html:<br />\n<br />\n<span style="font-size:16px\;">We&rsquo\;re gearing up for our <span style="color:#008000\;"><strong>29th Annual Golf Tournament</strong></span> on <u>Friday\, June 5th</u> at <u>Sunset Country Club</u>\, and we&rsquo\;d love your help making this one of our best events yet!<br />\n&nbsp\;<br />\nThis all-day tournament features <u>two flights</u> &ndash\; one in the morning at <u>8:00 AM</u> and another in the afternoon at <u>1:00 PM</u>. It promises to be a fun-filled day with great food\, prizes\, networking\, and friendly competition!<br />\n&nbsp\;<br />\nHere&rsquo\;s what&rsquo\;s in store:</span>\n<ul>\n	<li style="margin-left:0in\;"><span style="font-size:16px\;">Teams of 4 players</span></li>\n	<li style="margin-left:0in\;"><span style="font-size:16px\;">Lunch provided for all players</span></li>\n	<li style="margin-left:0in\;"><span style="font-size:16px\;">Prizes: Winning teams (gross &amp\; net)\, Closest to the Pin\, Hole in One\, and more</span></li>\n	<li style="margin-left:0in\;"><span style="font-size:16px\;">Extras: Mulligans for $10/player\, 50/50 Ball Drop\, and the crowd-favorite &ldquo\;Toilet Hole&rdquo\;</span></li>\n</ul>\n<span style="font-size:16px\;"> &nbsp\;<br />\n<strong><span style="color:#008000\;">Pricing:</span></strong></span>\n\n<ul>\n	<li style="margin-left:0in\;"><strong><span style="color:#008000\;"><span style="font-size:16px\;">Morning Flight: $<span style="background:yellow\;">500/team</span> OR <span style="background:yellow\;">$600/team with Hole Sponsorship</span></span></span></strong></li>\n	<li style="margin-left:0in\;"><strong><span style="color:#008000\;"><span style="font-size:16px\;">Afternoon Flight: <span style="background:yellow\;">$600/team</span> OR $<span style="background:yellow\;">700/team with Hole Sponsorship</span></span></span></strong></li>\n</ul>\n<strong> </strong><span style="font-size:16px\;"> &nbsp\;<br />\nBe a Sponsor!</span>\n\n<ul>\n	<li style="margin-left:0in\;"><span style="font-size:16px\;">Hole Sponsorships ($125) &ndash\; Includes a yard sign with your business name at one of the holes for the entire event!</span></li>\n	<li style="margin-left:0in\;"><span style="font-size:16px\;">Team Prize Sponsorships &ndash\; Monetary donations between <u>$50&ndash\;$200 or prize items</u><span style="font-family:aptos display\,sans-serif\;">. </span>All our Team Prizes will be bought through one or more of our local stores\, so that we do our part in giving back!</span></li>\n	<li style="margin-left:0in\;"><span style="font-size:16px\;">Swag Sponsor &ndash\; Businesses are welcome to include <u>any promotional items</u> they&rsquo\;d like (flyers\, pens\, coupons\, branded merch\, etc.). This a perfect way to get your products or services into our players&rsquo\; hands! We&rsquo\;ll be giving out 200 golf bags this year to all participating golfers.</span></li>\n	<li style="margin-left:0in\;"><span style="font-size:16px\;">Become a water sponsor! ($200) &ndash\; Your business name will be displayed at all water holes on the course.</span></li>\n	<li style="margin-left:0in\;"><span style="font-size:16px\;">Lunch Sponsor ($300) &ndash\; Sponsor our player&rsquo\;s lunch!</span></li>\n</ul>\n
LOCATION:Sunset Country Club 2730 S Main St\, Moultrie\, GA 31768
UID:e.570.13453
SEQUENCE:3
DTSTAMP:20260423T201807Z
URL:https://business.moultriechamber.com/events/details/29th-annual-golf-tournament-13453
END:VEVENT

END:VCALENDAR
