BEGIN:VCALENDAR
VERSION:2.0
PRODID:-//ChamberMaster//Event Calendar 2.0//EN
METHOD:PUBLISH
X-PUBLISHED-TTL:P3D
REFRESH-INTERVAL:P3D
CALSCALE:GREGORIAN
BEGIN:VEVENT
DTSTART:20250214T150000Z
DTEND:20250214T190000Z
X-MICROSOFT-CDO-ALLDAYEVENT:FALSE
SUMMARY:2025 Women's Summit
DESCRIPTION:Empowering Hope\, Embracing Resilience \n\n\n\nJoin us for a day filled with complimentary health screenings and resources specifically designed for the unique needs of women and girls. Enjoy FREE crafts\, haircuts\, a nail bar\, giveaways\, and a cafe. Everyone is invited\, but please note that space is limited to register!
X-ALT-DESC;FMTTYPE=text/html:Empowering Hope\, Embracing Resilience&nbsp\;<br />\n<br />\nJoin us for a day filled with complimentary health screenings and resources specifically designed for the unique needs of women and girls. Enjoy FREE crafts\, haircuts\, a nail bar\, giveaways\, and a cafe. Everyone is invited\, but please note that space is limited to register!&nbsp\;
LOCATION:SRTC Conference Room
UID:e.570.13330
SEQUENCE:3
DTSTAMP:20260423T203005Z
URL:https://business.moultriechamber.com/events/details/2025-women-s-summit-13330
END:VEVENT

END:VCALENDAR
