BEGIN:VCALENDAR
VERSION:2.0
PRODID:-//ChamberMaster//Event Calendar 2.0//EN
METHOD:PUBLISH
X-PUBLISHED-TTL:P3D
REFRESH-INTERVAL:P3D
CALSCALE:GREGORIAN
BEGIN:VEVENT
DTSTART;VALUE=DATE:20250920
DTEND;VALUE=DATE:20250921
TRANSP:TRANSPARENT
X-MICROSOFT-CDO-ALLDAYEVENT:TRUE
SUMMARY:2025 South Georgia Prime Olympics
DESCRIPTION:Get ready for the 2025 South Georgia Prime Olympics a day of fun\, fitness\, and friendly competition for active adults age 50 and older! Taking place on Saturday\, September 20\, 2025\, in Moultrie\, GA\, this event promotes health\, wellness\, and community spirit across South Georgia.\n\nParticipants can enjoy a wide variety of events\, including:\n\n- Pickleball  - Tennis   -  3v3 Basketball   - Basketball Throw    - Cornhole    - Running    - Clock Golf    -   Mile Walk    - Swimming   and much more!\n\nWho Can Participate: Ages 50+ (as of January 1\, 2025)
X-ALT-DESC;FMTTYPE=text/html:<p data-end="408" data-start="97"><br />\n<span style="font-size:18px\;">Get ready for the <em data-end="174" data-start="139">2025 South Georgia Prime Olympics</em>&mdash\;a day of fun\, fitness\, and friendly competition for active adults age 50 and older! Taking place on <strong data-end="307" data-start="275">Saturday\, September 20\, 2025</strong>\, in Moultrie\, GA\, this event promotes health\, wellness\, and community spirit across South Georgia.</span></p>\n\n<p data-end="471" data-start="410"><span style="font-size:18px\;">Participants can enjoy a wide variety of events\, including:</span></p>\n\n<p data-end="486" data-start="474"><span style="font-size:18px\;">- Pickleball&nbsp\; -&nbsp\;Tennis&nbsp\; &nbsp\;-&nbsp\;&#8203\;3v3 Basketball&nbsp\; &nbsp\;- Basketball Throw&nbsp\; &nbsp\; - Cornhole&nbsp\; &nbsp\; - Running&nbsp\; &nbsp\; - Clock Golf&nbsp\; &nbsp\; - &frac12\; Mile Walk&nbsp\; &nbsp\; - Swimming&nbsp\; &hellip\;and much more!<br />\n<strong data-end="697" data-start="673">Who Can Participate:</strong> Ages 50+ (as of January 1\, 2025)</span><br />\n&nbsp\;</p>\n
LOCATION:
UID:e.570.13404
SEQUENCE:3
DTSTAMP:20260423T141915Z
URL:https://business.moultriechamber.com/events/details/2025-south-georgia-prime-olympics-13404
END:VEVENT

END:VCALENDAR
