BEGIN:VCALENDAR
VERSION:2.0
PRODID:-//ChamberMaster//Event Calendar 2.0//EN
METHOD:PUBLISH
X-PUBLISHED-TTL:P3D
REFRESH-INTERVAL:P3D
CALSCALE:GREGORIAN
BEGIN:VEVENT
DTSTART;VALUE=DATE:20251016
DTEND;VALUE=DATE:20251017
TRANSP:TRANSPARENT
X-MICROSOFT-CDO-ALLDAYEVENT:TRUE
SUMMARY:11th Annual Packer Scramble
DESCRIPTION:The Colquitt County Wrestling program presents the 11th Annual Packer Scramble on Thursday\, October 16\, 2025\, at Sunset Country Club\, 2730 S Main Street\, Moultrie\, GA. The tournament begins with a 12:30 p.m. shotgun start\, and lunch will be provided.\n\nGolfers can participate as individuals or teams.\n\nSponsorship opportunities are also available:\n\n\n	\n	$1\,000 Platinum Sponsor   Includes one 4-person team\, prominent course signage banner (3x5)\, 4 tickets to the Packer Classic Wrestling Tournament (Jan. 3 & 4)\, and Facebook page advertising.\n	\n	\n	$750 Corporate Sponsor   Includes one 4-person team\, signage at a Hole Tee Box\, and 4 tickets to the Packer Classic Wrestling Tournament (Jan. 3 & 4).\n	\n	\n	$200 Hole Sponsor   Signage at Hole Tee Box.\n	\n\n\nAll proceeds support operating costs for Colquitt County Wrestling.
X-ALT-DESC;FMTTYPE=text/html:<p data-end="381" data-start="91"><br />\n<span style="font-size:18px\;">The Colquitt County Wrestling program presents the <em data-end="195" data-start="166">11th Annual Packer Scramble</em> on <strong data-end="229" data-start="199">Thursday\, October 16\, 2025</strong>\, at <strong data-end="291" data-start="234">Sunset Country Club\, 2730 S Main Street\, Moultrie\, GA</strong>. The tournament begins with a <strong data-end="350" data-start="322">12:30 p.m. shotgun start</strong>\, and lunch will be provided.</span></p>\n\n<p data-end="433" data-start="383"><span style="font-size:18px\;">Golfers can participate as individuals or teams.</span></p>\n\n<p data-end="537" data-start="490"><span style="font-size:18px\;">Sponsorship opportunities are also available:</span></p>\n\n<ul data-end="948" data-start="538">\n	<li data-end="736" data-start="538">\n	<p data-end="736" data-start="540"><span style="font-size:18px\;"><strong data-end="567" data-start="540">$1\,000 Platinum Sponsor</strong> &ndash\; Includes one 4-person team\, prominent course signage banner (3x5)\, 4 tickets to the Packer Classic Wrestling Tournament (Jan. 3 &amp\; 4)\, and Facebook page advertising.</span></p>\n	</li>\n	<li data-end="895" data-start="737">\n	<p data-end="895" data-start="739"><span style="font-size:18px\;"><strong data-end="765" data-start="739">$750 Corporate Sponsor</strong> &ndash\; Includes one 4-person team\, signage at a Hole Tee Box\, and 4 tickets to the Packer Classic Wrestling Tournament (Jan. 3 &amp\; 4).</span></p>\n	</li>\n	<li data-end="948" data-start="896">\n	<p data-end="948" data-start="898"><span style="font-size:18px\;"><strong data-end="919" data-start="898">$200 Hole Sponsor</strong> &ndash\; Signage at Hole Tee Box.</span></p>\n	</li>\n</ul>\n\n<p data-end="1019" data-start="950"><span style="font-size:18px\;">All proceeds support operating costs for Colquitt County Wrestling.</span></p>\n
LOCATION:Sunset Country Club 2730 S Main Street\, Moultrie\, GA
UID:e.570.13406
SEQUENCE:3
DTSTAMP:20260423T151246Z
URL:https://business.moultriechamber.com/events/details/11th-annual-packer-scramble-13406
END:VEVENT

END:VCALENDAR
