BEGIN:VCALENDAR
VERSION:2.0
PRODID:-//ChamberMaster//Event Calendar 2.0//EN
METHOD:PUBLISH
X-PUBLISHED-TTL:P3D
REFRESH-INTERVAL:P3D
CALSCALE:GREGORIAN
BEGIN:VEVENT
DTSTART:20250306T230000Z
DTEND:20250307T020000Z
X-MICROSOFT-CDO-ALLDAYEVENT:FALSE
SUMMARY:115th Annual Meeting & Community Awards Presentation
DESCRIPTION:We are proud to host the Moultrie-Colquitt County Chamber of Commerce 115th Annual Meeting & Community Awards on Thursday\, March 6th at the Maule Hangar - 2099 GA-133 in Moultrie. This event will provide a recap of a successful 2024 along with business and community awards presentation. We will hear from the Chamber's 2024 Board Chair\, Ora Coots\, plus an introduction of our 2025 Board of Directors. Cocktails and Silent Auction start at 6:00pm with dinner and program at 7:00pm. Contact the Chamber at 985-2131 for ticket and table information.\n\n\n\nBe a Sponsor! Sponsorship options here.
X-ALT-DESC;FMTTYPE=text/html:We are proud to host the Moultrie-Colquitt County Chamber of Commerce 115th Annual Meeting &amp\; Community Awards on Thursday\, March 6th at the Maule Hangar - 2099 GA-133 in Moultrie. This event will provide a recap of a successful 2024 along with business and community awards presentation. We will hear from the Chamber&#39\;s 2024 Board Chair\, Ora Coots\, plus an introduction of our 2025 Board of Directors. Cocktails and Silent Auction start at 6:00pm with dinner and program at 7:00pm. Contact the Chamber at 985-2131 for ticket and table information.<br />\n<br />\nBe a Sponsor! <a href="https://chambermaster.blob.core.windows.net/userfiles/UserFiles/chambers/570/File/BanquetSponsorships2.png">Sponsorship options here.</a>
LOCATION:Maule Hangar 2099 GA-133
UID:e.570.13319
SEQUENCE:3
DTSTAMP:20260423T191330Z
URL:https://business.moultriechamber.com/events/details/115th-annual-meeting-community-awards-presentation-13319
END:VEVENT

END:VCALENDAR
