BEGIN:VCALENDAR
VERSION:2.0
PRODID:-//ChamberMaster//Event Calendar 2.0//EN
METHOD:PUBLISH
X-PUBLISHED-TTL:P3D
REFRESH-INTERVAL:P3D
CALSCALE:GREGORIAN
BEGIN:VEVENT
DTSTART;VALUE=DATE:20210208
DTEND;VALUE=DATE:20210209
TRANSP:TRANSPARENT
X-MICROSOFT-CDO-ALLDAYEVENT:TRUE
SUMMARY:Youth Soccer Registration Begins
DESCRIPTION:Youth Coed Soccer League registration opens February 8th at the Moultrie YMCA for children ages 3 - 13\n\nRegistration ends March 3rd\n\nSkills and Drills begin the week of March 8th\n\nU5: Members $50\, Non-Members $80\n\nU7: Members $60\, Non-Members $90\n\nU9-U14: Members $65\, Non-Members $95\n\nFor more information please contact Dan Hurtado at 229-985-1154 or dhurtado@moultrieymca.org
X-ALT-DESC;FMTTYPE=text/html:Youth Coed Soccer League registration opens February 8th at the Moultrie YMCA for children ages 3 - 13<br />\nRegistration ends March 3rd<br />\nSkills and Drills begin the week of March 8th<br />\nU5: Members $50\, Non-Members $80<br />\nU7: Members $60\, Non-Members $90<br />\nU9-U14: Members $65\, Non-Members $95<br />\nFor more information please contact Dan Hurtado at 229-985-1154 or dhurtado@moultrieymca.org
LOCATION:Moultrie YMCA 601 26th Ave SE Moultrie\, GA 31768
UID:e.570.11314
SEQUENCE:3
DTSTAMP:20260424T124611Z
URL:http://business.moultriechamber.com/events/details/youth-soccer-registration-begins-11314
END:VEVENT

END:VCALENDAR
