BEGIN:VCALENDAR
VERSION:2.0
PRODID:-//ChamberMaster//Event Calendar 2.0//EN
METHOD:PUBLISH
X-PUBLISHED-TTL:P3D
REFRESH-INTERVAL:P3D
CALSCALE:GREGORIAN
BEGIN:VEVENT
DTSTART:20220705T220000Z
DTEND:20220705T230000Z
X-MICROSOFT-CDO-ALLDAYEVENT:FALSE
SUMMARY:Yoga Nidra Guided Meditation
DESCRIPTION:Yoga Nidra is a guided mediation that is designed to improve sleep patterns and relax the body and mind. Bring a blanket\, eye mask\, socks or any other item to make yourself comfortable as you relax and listen to a guided meditation from Ashlee Parrish.
X-ALT-DESC;FMTTYPE=text/html:Yoga Nidra is a guided mediation that is designed to improve sleep patterns and relax the body and mind. Bring a blanket\, eye mask\, socks or any other item to make yourself comfortable as you relax and listen to a guided meditation from Ashlee Parrish.
LOCATION:Indigo Studio 128 S. Main St. Moultrie
UID:e.570.12956
SEQUENCE:3
DTSTAMP:20260423T160122Z
URL:http://business.moultriechamber.com/events/details/yoga-nidra-guided-meditation-12956
END:VEVENT

END:VCALENDAR
