BEGIN:VCALENDAR
VERSION:2.0
PRODID:-//ChamberMaster//Event Calendar 2.0//EN
METHOD:PUBLISH
X-PUBLISHED-TTL:P3D
REFRESH-INTERVAL:P3D
CALSCALE:GREGORIAN
BEGIN:VEVENT
DTSTART:20220407T220000Z
DTEND:20220407T230000Z
X-MICROSOFT-CDO-ALLDAYEVENT:FALSE
SUMMARY:Yoga in the Flowers
DESCRIPTION:Yoga (yin) in the Flowers at Better Half Farm.
X-ALT-DESC;FMTTYPE=text/html:Yoga (yin) in the Flowers at Better Half Farm.
LOCATION:Better Half Farm
UID:e.570.12079
SEQUENCE:3
DTSTAMP:20260423T195218Z
URL:http://business.moultriechamber.com/events/details/yoga-in-the-flowers-12079
END:VEVENT

END:VCALENDAR
