BEGIN:VCALENDAR
VERSION:2.0
PRODID:-//ChamberMaster//Event Calendar 2.0//EN
METHOD:PUBLISH
X-PUBLISHED-TTL:P3D
REFRESH-INTERVAL:P3D
CALSCALE:GREGORIAN
BEGIN:VEVENT
DTSTART:20210225T214500Z
DTEND:20210225T224500Z
X-MICROSOFT-CDO-ALLDAYEVENT:FALSE
SUMMARY:Wooden Sign Workshop
DESCRIPTION:Have fun transforming a plank of wood into a home decor charmer. Bring along your best quote or saying and learn how to hand paint the letters onto a customizable background. Add a ribbon on the back at the end of the class for your own unique hand-painted sign ready to hang. Instructor Rio Davies Thursday\, February 25th 4:45 pm   5:45 pm Open to all ages $35 all supplies provided
X-ALT-DESC;FMTTYPE=text/html:Have fun transforming a plank of wood into a home decor charmer. Bring along your best quote or saying and learn how to hand paint the letters onto a customizable background. Add a ribbon on the back at the end of the class for your own unique hand-painted sign ready to hang. Instructor Rio Davies Thursday\, February 25th 4:45 pm &ndash\; 5:45 pm Open to all ages $35 all supplies provided
LOCATION:Colquitt County Arts Center 401 7th Avenue S.W. Moultrie\, GA 31768
UID:e.570.11289
SEQUENCE:3
DTSTAMP:20260420T051814Z
URL:http://business.moultriechamber.com/events/details/wooden-sign-workshop-11289
END:VEVENT

END:VCALENDAR
