BEGIN:VCALENDAR
VERSION:2.0
PRODID:-//ChamberMaster//Event Calendar 2.0//EN
METHOD:PUBLISH
X-PUBLISHED-TTL:P3D
REFRESH-INTERVAL:P3D
CALSCALE:GREGORIAN
BEGIN:VEVENT
DTSTART:20220428T160000Z
DTEND:20220428T170000Z
X-MICROSOFT-CDO-ALLDAYEVENT:FALSE
SUMMARY:Women in the Workforce Luncheon
DESCRIPTION:First National Bank of Moultrie will host "Women in the Workforce" Luncheon on 04.28.2022. This event is for women business owners\, managers\, and women who work at a business in Colquitt County. A catered lunch will be served. A local guest speaker along with a panel of local women who will encourage and inspire those attending.
X-ALT-DESC;FMTTYPE=text/html:First National Bank of Moultrie will host &quot\;Women in the Workforce&quot\; Luncheon on 04.28.2022. This event is for women business owners\, managers\, and women who work at a business in Colquitt County. A catered lunch will be served. A local guest speaker along with a panel of local women who will encourage and inspire those attending.
LOCATION:Downtown Moultrie Courthouse Lawn
UID:e.570.12072
SEQUENCE:3
DTSTAMP:20260423T194836Z
URL:http://business.moultriechamber.com/events/details/women-in-the-workforce-luncheon-12072
END:VEVENT

END:VCALENDAR
