BEGIN:VCALENDAR
VERSION:2.0
PRODID:-//ChamberMaster//Event Calendar 2.0//EN
METHOD:PUBLISH
X-PUBLISHED-TTL:P3D
REFRESH-INTERVAL:P3D
CALSCALE:GREGORIAN
BEGIN:VEVENT
DTSTART:20191001T220000Z
DTEND:20191002T010000Z
X-MICROSOFT-CDO-ALLDAYEVENT:FALSE
SUMMARY:Wine Glass Painting
DESCRIPTION:Wine Glass Painting Tuesday\, October 1st 6:00 pm   9:00 pm $30 Supplies Provided Instructor Rio Davies Paint 2 wine glasses of your choice for the dinner table.
X-ALT-DESC;FMTTYPE=text/html:Wine Glass Painting Tuesday\, October 1st 6:00 pm &ndash\; 9:00 pm $30 Supplies Provided Instructor Rio Davies Paint 2 wine glasses of your choice for the dinner table.
LOCATION:401 7th Ave. SW
UID:e.570.9635
SEQUENCE:3
DTSTAMP:20260425T103005Z
URL:http://business.moultriechamber.com/events/details/wine-glass-painting-9635
END:VEVENT

END:VCALENDAR
