BEGIN:VCALENDAR
VERSION:2.0
PRODID:-//ChamberMaster//Event Calendar 2.0//EN
METHOD:PUBLISH
X-PUBLISHED-TTL:P3D
REFRESH-INTERVAL:P3D
CALSCALE:GREGORIAN
BEGIN:VEVENT
DTSTART:20200205T000000Z
DTEND:20200205T030000Z
X-MICROSOFT-CDO-ALLDAYEVENT:FALSE
SUMMARY:Whiskey & Wildlife
DESCRIPTION:A gentleman's evening at Sullivan Plantation with a special guest speaker\, whiskey bar\, hand-rolled cigars\, and heavy hors d'oeuvres. Presented by the Volunteer Arts Alliance to benefit the Colquitt County Arts Center.
X-ALT-DESC;FMTTYPE=text/html:A gentleman&#39\;s evening at Sullivan Plantation with a special guest speaker\, whiskey bar\, hand-rolled cigars\, and heavy hors d&#39\;oeuvres. P<span style="font-family:calibri\,sans-serif\;"><span style="font-size:11.0pt\;">resented by the Volunteer Arts Alliance to benefit the Colquitt County Arts Center.</span></span>
LOCATION:Sullivan Plantation
UID:e.570.10947
SEQUENCE:3
DTSTAMP:20260425T040523Z
URL:http://business.moultriechamber.com/events/details/whiskey-wildlife-10947
END:VEVENT

END:VCALENDAR
