BEGIN:VCALENDAR
VERSION:2.0
PRODID:-//ChamberMaster//Event Calendar 2.0//EN
METHOD:PUBLISH
X-PUBLISHED-TTL:P3D
REFRESH-INTERVAL:P3D
CALSCALE:GREGORIAN
BEGIN:VEVENT
DTSTART:20240525T143000Z
DTEND:20240525T153000Z
X-MICROSOFT-CDO-ALLDAYEVENT:FALSE
SUMMARY:What’s Been Done: Using Someone Else’s Genealogy Research
DESCRIPTION:Whether you are new to genealogy or you've been working on your family history for years\, incorporating the research of others can always be tricky. Here's how to develop a proven strategy to benefit from the work of other genealogists. Many of us as genealogists have inherited research from a relative and we are not always sure whether the content is reliable? What's the best way to incorporate the research of others into your own research without leading to dead ends\, roadblocks and unnecessary detours? Here's a road map on the best way to handle "outside research" and benefit from it as you combine the content with your own research. Mr. MacEntee will be present virtually at this in-person event\, and participants will have the opportunity to ask him questions. Registration Begins May 1. It is not required but appreciated. For more information\, call the library at 229-985-6540 or email amcnair@mccls.org. Reservations are not required but are appreciated so we can provide adequate seating and materials.
X-ALT-DESC;FMTTYPE=text/html:Whether you are new to genealogy or you&rsquo\;ve been working on your family history for years\, incorporating the research of others can always be tricky. Here&rsquo\;s how to develop a proven strategy to benefit from the work of other genealogists. Many of us as genealogists have inherited research from a relative and we are not always sure whether the content is reliable? What&rsquo\;s the best way to incorporate the research of others into your own research without leading to dead ends\, roadblocks and unnecessary detours? Here&rsquo\;s a road map on the best way to handle &ldquo\;outside research&rdquo\; and benefit from it as you combine the content with your own research. Mr. MacEntee will be present virtually at this in-person event\, and participants will have the opportunity to ask him questions. Registration Begins May 1. It is not required but appreciated. For more information\, call the library at 229-985-6540 or email amcnair@mccls.org. Reservations are not required but are appreciated so we can provide adequate seating and materials.
LOCATION:Moultrie Library\, 204 Fifth Street\, SW\, Moultrie\, Georgia 31776
UID:e.570.13257
SEQUENCE:3
DTSTAMP:20260422T130114Z
URL:http://business.moultriechamber.com/events/details/what-s-been-done-using-someone-else-s-genealogy-research-13257
END:VEVENT

END:VCALENDAR
