BEGIN:VCALENDAR
VERSION:2.0
PRODID:-//ChamberMaster//Event Calendar 2.0//EN
METHOD:PUBLISH
X-PUBLISHED-TTL:P3D
REFRESH-INTERVAL:P3D
CALSCALE:GREGORIAN
BEGIN:VEVENT
DTSTART:20180725T180000Z
DTEND:20180725T190000Z
X-MICROSOFT-CDO-ALLDAYEVENT:FALSE
SUMMARY:Wednesday Matinee
DESCRIPTION:Enjoy watching family favorites on the big screen. Today's feature: Finding Dory
X-ALT-DESC;FMTTYPE=text/html:Enjoy watching family favorites on the big screen. Today&rsquo\;s feature: Finding Dory
LOCATION:Moultrie Library\, 225 S. Main St\, Moultrie (Temporary Location)
UID:e.570.9339
SEQUENCE:3
DTSTAMP:20260426T043338Z
URL:http://business.moultriechamber.com/events/details/wednesday-matinee-07-25-2018-9339
END:VEVENT

END:VCALENDAR
