BEGIN:VCALENDAR
VERSION:2.0
PRODID:-//ChamberMaster//Event Calendar 2.0//EN
METHOD:PUBLISH
X-PUBLISHED-TTL:P3D
REFRESH-INTERVAL:P3D
CALSCALE:GREGORIAN
BEGIN:VEVENT
DTSTART:20210330T203000Z
DTEND:20210330T210000Z
X-MICROSOFT-CDO-ALLDAYEVENT:FALSE
SUMMARY:Virtual Ribbon Cutting for Turning the Key Autism & ABA Therapy Center\, LLC
DESCRIPTION:Join us for a Virtual Ribbon Cutting for one of our newest Chamber members- Turning the Key Autism & ABA Therapy Center\, LLC!\n\nWe will go live on our Facebook & YouTube pages at 4:25pm with a countdown.\n\nLike\, Comment\, and Share to let us know you are here!\n\n#TeamChamber
X-ALT-DESC;FMTTYPE=text/html:<div class="gl3lb2sf">&nbsp\;</div>\n\n<div class="kvgmc6g5 cxmmr5t8 oygrvhab hcukyx3x c1et5uql"><span class="d2edcug0 hpfvmrgz qv66sw1b c1et5uql rrkovp55 a8c37x1j keod5gw0 nxhoafnm aigsh9s9 d3f4x2em fe6kdd0r mau55g9w c8b282yb iv3no6db jq4qci2q a3bd9o3v knj5qynh oo9gr5id" dir="auto">Join us for a Virtual Ribbon Cutting for one of our newest Chamber members- Turning the Key Autism &amp\; ABA Therapy Center\, LLC!<br />\nWe will go live on our Facebook &amp\; YouTube pages at 4:25pm with a countdown.<br />\nLike\, Comment\, and Share to let us know you are here!<br />\n<a class="oajrlxb2 g5ia77u1 qu0x051f esr5mh6w e9989ue4 r7d6kgcz rq0escxv nhd2j8a9 nc684nl6 p7hjln8o kvgmc6g5 cxmmr5t8 oygrvhab hcukyx3x jb3vyjys rz4wbd8a qt6c0cv9 a8nywdso i1ao9s8h esuyzwwr f1sip0of lzcic4wl oo9gr5id gpro0wi8 lrazzd5p" href="https://www.facebook.com/hashtag/teamchamber?__eep__=6&amp\;__cft__[0]=AZVMPez8njgExluEdrvz2M9cYganp-nKCDloopP2fRmGlJc-06FD3vue6ewunmaXx_a1nBPhO7gc1YUiFbhGIujkUwuZnRp-iIM04vG4WiJIXbP3IRU-qQwQlzEFHC1sFjaPXmz_FvkFC--avS7A9KAf&amp\;__tn__=q" role="link" tabindex="0">#TeamChamber</a> </span></div>\n
LOCATION:Virtual
UID:e.570.11326
SEQUENCE:3
DTSTAMP:20260424T114319Z
URL:http://business.moultriechamber.com/events/details/virtual-ribbon-cutting-for-turning-the-key-autism-aba-therapy-center-llc-11326
END:VEVENT

END:VCALENDAR
