BEGIN:VCALENDAR
VERSION:2.0
PRODID:-//ChamberMaster//Event Calendar 2.0//EN
METHOD:PUBLISH
X-PUBLISHED-TTL:P3D
REFRESH-INTERVAL:P3D
CALSCALE:GREGORIAN
BEGIN:VEVENT
DTSTART:20201104T140000Z
DTEND:20201104T150000Z
X-MICROSOFT-CDO-ALLDAYEVENT:FALSE
SUMMARY:Virtual Ribbon Cutting for Sutton System Sales\, Inc.
DESCRIPTION:Join us for a virtual Ribbon Cutting for one of our newest Chamber members- Sutton System Sales\, Inc.!\n\nWe will go live on our Facebook and YouTube pages at 8:55am with a countdown.\n\nLike\, Comment\, and Share to let us know you are here!\n\n#TeamChamber
X-ALT-DESC;FMTTYPE=text/html:<div class="kvgmc6g5 cxmmr5t8 oygrvhab hcukyx3x c1et5uql">Join us for a virtual Ribbon Cutting for one of our newest Chamber members- Sutton System Sales\, Inc.!<br />\nWe will go live on our Facebook and YouTube pages at 8:55am with a countdown.<br />\nLike\, Comment\, and Share to let us know you are here!</div>\n\n<div class="o9v6fnle cxmmr5t8 oygrvhab hcukyx3x c1et5uql"><a class="oajrlxb2 g5ia77u1 qu0x051f esr5mh6w e9989ue4 r7d6kgcz rq0escxv nhd2j8a9 nc684nl6 p7hjln8o kvgmc6g5 cxmmr5t8 oygrvhab hcukyx3x jb3vyjys rz4wbd8a qt6c0cv9 a8nywdso i1ao9s8h esuyzwwr f1sip0of lzcic4wl oo9gr5id gpro0wi8 lrazzd5p" href="https://www.facebook.com/hashtag/teamchamber?__eep__=6" role="link" tabindex="0">#TeamChamber</a></div>\n
LOCATION:
UID:e.570.11241
SEQUENCE:3
DTSTAMP:20260424T163716Z
URL:http://business.moultriechamber.com/events/details/virtual-ribbon-cutting-for-sutton-system-sales-inc-11241
END:VEVENT

END:VCALENDAR
