BEGIN:VCALENDAR
VERSION:2.0
PRODID:-//ChamberMaster//Event Calendar 2.0//EN
METHOD:PUBLISH
X-PUBLISHED-TTL:P3D
REFRESH-INTERVAL:P3D
CALSCALE:GREGORIAN
BEGIN:VEVENT
DTSTART:20210127T140000Z
DTEND:20210127T150000Z
X-MICROSOFT-CDO-ALLDAYEVENT:FALSE
SUMMARY:Virtual Ribbon Cutting for KS Concrete LLC
DESCRIPTION:Join us for a Virtual Ribbon Cutting for one of our newest Chamber members- KS Concrete LLC!\n\nWe will go live on our Facebook & YouTube pages at 8:55am with a countdown.\n\nLike\, Comment\, and Share to let us know you are there!\n\n#TeamChamber
X-ALT-DESC;FMTTYPE=text/html:Join us for a Virtual Ribbon Cutting for one of our newest Chamber members- KS Concrete LLC!<br />\nWe will go live on our Facebook &amp\; YouTube pages at 8:55am with a countdown.<br />\nLike\, Comment\, and Share to let us know you are there!<br />\n<a class="oajrlxb2 g5ia77u1 qu0x051f esr5mh6w e9989ue4 r7d6kgcz rq0escxv nhd2j8a9 nc684nl6 p7hjln8o kvgmc6g5 cxmmr5t8 oygrvhab hcukyx3x jb3vyjys rz4wbd8a qt6c0cv9 a8nywdso i1ao9s8h esuyzwwr f1sip0of lzcic4wl oo9gr5id gpro0wi8 lrazzd5p" href="https://www.facebook.com/hashtag/teamchamber?__eep__=6&amp\;__cft__[0]=AZUS1lK8F81QVWEZX-2YtA4dhQLGkbrhxomhzakIKSP-5k3iMAqK9yVQXZX-DHZgVB7YVukLoeLvJmp1nRHd8-aM9Y9A1qGVWKPh4J-OrwL23jbtwHRfcUwD10isyrzuAylEkZQZ-oDj_6Oe-Q13JQYS&amp\;__tn__=q" role="link" tabindex="0">#TeamChamber</a>
LOCATION:
UID:e.570.11278
SEQUENCE:3
DTSTAMP:20260419T130706Z
URL:http://business.moultriechamber.com/events/details/virtual-ribbon-cutting-for-ks-concrete-llc-11278
END:VEVENT

END:VCALENDAR
