BEGIN:VCALENDAR
VERSION:2.0
PRODID:-//ChamberMaster//Event Calendar 2.0//EN
METHOD:PUBLISH
X-PUBLISHED-TTL:P3D
REFRESH-INTERVAL:P3D
CALSCALE:GREGORIAN
BEGIN:VEVENT
DTSTART:20201007T130000Z
DTEND:20201007T140000Z
X-MICROSOFT-CDO-ALLDAYEVENT:FALSE
SUMMARY:Virtual Ribbon Cutting for Ellenton Tire & Auto
DESCRIPTION:Join us for a Virtual Ribbon Cutting for one of our newest Chamber members- Ellenton Tire & Auto!  We will go live on Facebook and YouTube at 8:55am with a countdown.\n\n#TeamChamber
X-ALT-DESC;FMTTYPE=text/html:Join us for a Virtual Ribbon Cutting for one of our newest Chamber members- Ellenton Tire &amp\; Auto!&nbsp\; We will go live on Facebook and YouTube at 8:55am with a countdown.<br />\n#TeamChamber
LOCATION:
UID:e.570.11196
SEQUENCE:3
DTSTAMP:20260424T175326Z
URL:http://business.moultriechamber.com/events/details/virtual-ribbon-cutting-for-ellenton-tire-auto-11196
END:VEVENT

END:VCALENDAR
