BEGIN:VCALENDAR
VERSION:2.0
PRODID:-//ChamberMaster//Event Calendar 2.0//EN
METHOD:PUBLISH
X-PUBLISHED-TTL:P3D
REFRESH-INTERVAL:P3D
CALSCALE:GREGORIAN
BEGIN:VEVENT
DTSTART:20210512T173000Z
DTEND:20210512T180000Z
X-MICROSOFT-CDO-ALLDAYEVENT:FALSE
SUMMARY:Virtual Ribbon Cutting for Cornbread & Cotton
DESCRIPTION:Join us for a Virtual Ribbon Cutting for one of our newest Chamber members- Cornbread & Cotton!\n\n\n\nWe will go live on our Facebook & YouTube pages at 12:25pm with a countdown.\n\n\n\nLike\, Comment\, and Share to let us know you are here!\n\n\n\n#TeamChamber
X-ALT-DESC;FMTTYPE=text/html:<div class="kvgmc6g5 cxmmr5t8 oygrvhab hcukyx3x c1et5uql">Join us for a Virtual Ribbon Cutting for one of our newest Chamber members- Cornbread &amp\; Cotton!</div>\n\n<div class="o9v6fnle cxmmr5t8 oygrvhab hcukyx3x c1et5uql"><br />\nWe will go live on our Facebook &amp\; YouTube pages at 12:25pm with a countdown.</div>\n\n<div class="o9v6fnle cxmmr5t8 oygrvhab hcukyx3x c1et5uql"><br />\nLike\, Comment\, and Share to let us know you are here!</div>\n\n<div class="o9v6fnle cxmmr5t8 oygrvhab hcukyx3x c1et5uql"><br />\n<a class="oajrlxb2 g5ia77u1 qu0x051f esr5mh6w e9989ue4 r7d6kgcz rq0escxv nhd2j8a9 nc684nl6 p7hjln8o kvgmc6g5 cxmmr5t8 oygrvhab hcukyx3x jb3vyjys rz4wbd8a qt6c0cv9 a8nywdso i1ao9s8h esuyzwwr f1sip0of lzcic4wl oo9gr5id gpro0wi8 lrazzd5p" href="https://www.facebook.com/hashtag/teamchamber?__eep__=6&amp\;__cft__[0]=AZWDs0L_puua2CBGJm_Qw1j1_n0OyaqApfd82V-PWn9z0ERfO5xp8zuY7ttTm7Tf472hyX2F-hOe5yuDL3M00mO2cDGYm1wOsFk9Cvq5H7e5MRsT4s1pqC7N22wvkUnX1uQ&amp\;__tn__=q" role="link" tabindex="0">#TeamChamber</a></div>\n
LOCATION:
UID:e.570.11380
SEQUENCE:3
DTSTAMP:20260424T091359Z
URL:http://business.moultriechamber.com/events/details/virtual-ribbon-cutting-for-cornbread-cotton-11380
END:VEVENT

END:VCALENDAR
