BEGIN:VCALENDAR
VERSION:2.0
PRODID:-//ChamberMaster//Event Calendar 2.0//EN
METHOD:PUBLISH
X-PUBLISHED-TTL:P3D
REFRESH-INTERVAL:P3D
CALSCALE:GREGORIAN
BEGIN:VEVENT
DTSTART:20201006T130000Z
DTEND:20201006T140000Z
X-MICROSOFT-CDO-ALLDAYEVENT:FALSE
SUMMARY:Virtual Ribbon Cutting for Colquitt Ag Service
DESCRIPTION:Join us for a Virtual Ribbon Cutting for on of our newest Chamber members- Colquitt Ag Service!  We will go live on Facebook and Youtube at 8:55am with a countdown.\n\n#TeamChamber
X-ALT-DESC;FMTTYPE=text/html:Join us for a Virtual Ribbon Cutting for on of our newest Chamber members- Colquitt Ag Service!&nbsp\; We will go live on Facebook and Youtube at 8:55am with a countdown.<br />\n#TeamChamber
LOCATION:
UID:e.570.11195
SEQUENCE:3
DTSTAMP:20260424T185222Z
URL:http://business.moultriechamber.com/events/details/virtual-ribbon-cutting-for-colquitt-ag-service-11195
END:VEVENT

END:VCALENDAR
