BEGIN:VCALENDAR
VERSION:2.0
PRODID:-//ChamberMaster//Event Calendar 2.0//EN
METHOD:PUBLISH
X-PUBLISHED-TTL:P3D
REFRESH-INTERVAL:P3D
CALSCALE:GREGORIAN
BEGIN:VEVENT
DTSTART:20201016T150000Z
DTEND:20201016T153000Z
X-MICROSOFT-CDO-ALLDAYEVENT:FALSE
SUMMARY:Virtaul Ribbon Cutting for Moultrie Livestock
DESCRIPTION:Join us for a virtual ribbon cutting for one of our newest Chamber members- Moultrie Livestock!  We will go live on our Facebook and YouTube pages at 10:55am with a countdown. Like\, Comment\, and Share to let us know you are here!\n\n#TeamChamber
X-ALT-DESC;FMTTYPE=text/html:Join us for a virtual ribbon cutting for one of our newest Chamber members- Moultrie Livestock!&nbsp\; We will go live on our Facebook and YouTube pages at 10:55am with a countdown. Like\, Comment\, and Share to let us know you are here!<br />\n#TeamChamber&nbsp\;
LOCATION:
UID:e.570.11202
SEQUENCE:3
DTSTAMP:20260424T175423Z
URL:http://business.moultriechamber.com/events/details/virtaul-ribbon-cutting-for-moultrie-livestock-11202
END:VEVENT

END:VCALENDAR
