BEGIN:VCALENDAR
VERSION:2.0
PRODID:-//ChamberMaster//Event Calendar 2.0//EN
METHOD:PUBLISH
X-PUBLISHED-TTL:P3D
REFRESH-INTERVAL:P3D
CALSCALE:GREGORIAN
BEGIN:VEVENT
DTSTART:20190209T150000Z
DTEND:20190209T223000Z
X-MICROSOFT-CDO-ALLDAYEVENT:FALSE
SUMMARY:Vilas Tonapes: Gazing Moments
DESCRIPTION:Vilas Tonapes: Gazing Moments January 25th   March 29th\, 2019 Open M-F 10 am - 5:30 pm Vilas Tonape is an internationally recognized artist and a teacher. He is a native of India and has been creating art for over thirty years." His paintings can be described as classically inspired\, contemporary-realism interpretive images that enchant the eye." This exhibit will feature his portrait art. See his work at vilastonape.com.
X-ALT-DESC;FMTTYPE=text/html:Vilas Tonapes: Gazing Moments January 25th &ndash\; March 29th\, 2019 Open M-F 10 am - 5:30 pm Vilas Tonape is an internationally recognized artist and a teacher. He is a native of India and has been creating art for over thirty years.&ldquo\; His paintings can be described as classically inspired\, contemporary-realism&mdash\;interpretive images that enchant the eye.&rdquo\; This exhibit will feature his portrait art. See his work at vilastonape.com.
LOCATION:Colquitt County Arts Center 401 7th Avenue S.W. Moultrie\, GA 31768
UID:e.570.9478
SEQUENCE:3
DTSTAMP:20260425T191125Z
URL:http://business.moultriechamber.com/events/details/vilas-tonapes-gazing-moments-9478
END:VEVENT

END:VCALENDAR
