BEGIN:VCALENDAR
VERSION:2.0
PRODID:-//ChamberMaster//Event Calendar 2.0//EN
METHOD:PUBLISH
X-PUBLISHED-TTL:P3D
REFRESH-INTERVAL:P3D
CALSCALE:GREGORIAN
BEGIN:VEVENT
DTSTART:20220212T180000Z
DTEND:20220212T210000Z
X-MICROSOFT-CDO-ALLDAYEVENT:FALSE
SUMMARY:“Valentine’s Neigh”
DESCRIPTION:"HAYY YALL!!! HAYYYYY!!!" We can hardly wait for our "Valentine's Neigh" here at Happy Days Horse Riding. We are planning a special day here with our four legged sweethearts. We will have a kissing photo booth with some of the most handsome fellas & beautiful ladies in the area- $25/5 digital pictures. Pony rides $5/per rider. Hot dogs\, chips & drinks! Tee shirts available for sale! All proceeds go back into the rescues here at Happy Days. Thank you for your support! We look forward to seeing you there!
X-ALT-DESC;FMTTYPE=text/html:&ldquo\;HAYY YALL!!! HAYYYYY!!!&rdquo\; We can hardly wait for our &ldquo\;Valentine&rsquo\;s Neigh&rdquo\; here at Happy Days Horse Riding. We are planning a special day here with our four legged sweethearts. We will have a kissing photo booth with some of the most handsome fellas &amp\; beautiful ladies in the area- $25/5 digital pictures. Pony rides $5/per rider. Hot dogs\, chips &amp\; drinks! Tee shirts available for sale! All proceeds go back into the rescues here at Happy Days. Thank you for your support! We look forward to seeing you there!
LOCATION:Happy Days Horse Riding 181 Becky Lane Moultrie\, Ga 31768
UID:e.570.12003
SEQUENCE:3
DTSTAMP:20260423T215040Z
URL:http://business.moultriechamber.com/events/details/valentine-s-neigh-12003
END:VEVENT

END:VCALENDAR
