BEGIN:VCALENDAR
VERSION:2.0
PRODID:-//ChamberMaster//Event Calendar 2.0//EN
METHOD:PUBLISH
X-PUBLISHED-TTL:P3D
REFRESH-INTERVAL:P3D
CALSCALE:GREGORIAN
BEGIN:VEVENT
DTSTART:20210115T150000Z
DTEND:20210203T223000Z
X-MICROSOFT-CDO-ALLDAYEVENT:FALSE
SUMMARY:Valentine’s Day Love My Kiddo Kit
DESCRIPTION:Spend Valentine's Day crafting with your kids. Each kit includes materials and instructions to make the projects listed below. Kits are for kids ages 4 and up. Order online and pick up at the Arts Center on February 5th. DIY Kit Includes: Yarn Heart Rainbow Heart Suncatcher Butterfly Treats Mason Jar of Love Notes $12 per kit Pre-order your kits by Feb 3rd  Pick up kits at the Arts Center Feb 5th by 5:30 pm
X-ALT-DESC;FMTTYPE=text/html:Spend Valentine&rsquo\;s Day crafting with your kids. Each kit includes materials and instructions to make the projects listed below. Kits are for kids ages 4 and up. Order online and pick up at the Arts Center on February 5th. DIY Kit Includes: Yarn Heart Rainbow Heart Suncatcher Butterfly Treats Mason Jar of Love Notes $12 per kit Pre-order your kits by Feb 3rd&nbsp\; Pick up kits at the Arts Center Feb 5th by 5:30 pm
LOCATION:Colquitt County Arts Center 401 7th Avenue S.W. Moultrie\, GA 31768
UID:e.570.11297
SEQUENCE:3
DTSTAMP:20260424T124459Z
URL:http://business.moultriechamber.com/events/details/valentine-s-day-love-my-kiddo-kit-11297
END:VEVENT

END:VCALENDAR
