BEGIN:VCALENDAR
VERSION:2.0
PRODID:-//ChamberMaster//Event Calendar 2.0//EN
METHOD:PUBLISH
X-PUBLISHED-TTL:P3D
REFRESH-INTERVAL:P3D
CALSCALE:GREGORIAN
BEGIN:VEVENT
DTSTART:20210620T213000Z
DTEND:20210625T000000Z
X-MICROSOFT-CDO-ALLDAYEVENT:FALSE
SUMMARY:Vacation Bible School
DESCRIPTION:Join us for VBS 2021: Destination Dig! For kids who have completed PreK4 through 5th Grade\, we have a jam-packed\, fun-filled 5 days planned June 20-24 from 5:30-8:00pm each evening for Vacation Bible School this year. Parents\, join us for our final night on Thursday! Register today at firstmoultrie.org/vbs.
X-ALT-DESC;FMTTYPE=text/html:Join us for VBS 2021: Destination Dig! For kids who have completed PreK4 through 5th Grade\, we have a jam-packed\, fun-filled 5 days planned June 20-24 from 5:30-8:00pm each evening for Vacation Bible School this year. Parents\, join us for our final night on Thursday! Register today at firstmoultrie.org/vbs.
LOCATION:First Baptist Church of Moultrie
UID:e.570.11409
SEQUENCE:3
DTSTAMP:20260424T075707Z
URL:http://business.moultriechamber.com/events/details/vacation-bible-school-11409
END:VEVENT

END:VCALENDAR
