BEGIN:VCALENDAR
VERSION:2.0
PRODID:-//ChamberMaster//Event Calendar 2.0//EN
METHOD:PUBLISH
X-PUBLISHED-TTL:P3D
REFRESH-INTERVAL:P3D
CALSCALE:GREGORIAN
BEGIN:VEVENT
DTSTART:20190809T230000Z
DTEND:20190812T020000Z
X-MICROSOFT-CDO-ALLDAYEVENT:FALSE
SUMMARY:USO Tribute Show
DESCRIPTION:USO Show featuring local talent and Vietnam War era music: Bob Hope\; Phyllis Diller\; Peter\, Paul and Mary\; The Shirelles\; Jerry Lee Lewis\; The Animals\; Neil Diamond\; just to name a few. Veterans admitted free with advance ticket from Arts Center. Several surprises. Thanking Vietnam veterans for their service Part of 50th commemoration of Vietnam War. Sponsored by Daughters of the American Revolution and Arts Center.
X-ALT-DESC;FMTTYPE=text/html:USO Show featuring local talent and Vietnam War era music: Bob Hope\; Phyllis Diller\; Peter\, Paul and Mary\; The Shirelles\; Jerry Lee Lewis\; The Animals\; Neil Diamond\; just to name a few. Veterans admitted free with advance ticket from Arts Center. Several surprises. Thanking Vietnam veterans for their service Part of 50th commemoration of Vietnam War. Sponsored by Daughters of the American Revolution and Arts Center.
LOCATION:Wright Auditorium at Colquitt County Arts Center
UID:e.570.9584
SEQUENCE:3
DTSTAMP:20260425T114639Z
URL:http://business.moultriechamber.com/events/details/uso-tribute-show-9584
END:VEVENT

END:VCALENDAR
