BEGIN:VCALENDAR
VERSION:2.0
PRODID:-//ChamberMaster//Event Calendar 2.0//EN
METHOD:PUBLISH
X-PUBLISHED-TTL:P3D
REFRESH-INTERVAL:P3D
CALSCALE:GREGORIAN
BEGIN:VEVENT
DTSTART:20181006T220000Z
DTEND:20181007T010000Z
X-MICROSOFT-CDO-ALLDAYEVENT:FALSE
SUMMARY:United Way Glow Run
DESCRIPTION:A 5K Glow Run for families to share in an incredible night of fun. The event is a fundraiser for United Way of Colquitt County. The Run will be held at the Cross Country trail at Colquitt County High School and will end at the indoor training facility. There will be food trucks\, plenty of "glowy" items to make your run more fun and children activities.
X-ALT-DESC;FMTTYPE=text/html:A 5K Glow Run for families to share in an incredible night of fun. The event is a fundraiser for United Way of Colquitt County. The Run will be held at the Cross Country trail at Colquitt County High School and will end at the indoor training facility. There will be food trucks\, plenty of &quot\;glowy&quot\; items to make your run more fun and children activities.
LOCATION:CCHS Cross Country Trail and Training facility at Packer Park.
UID:e.570.9090
SEQUENCE:3
DTSTAMP:20260426T004337Z
URL:http://business.moultriechamber.com/events/details/united-way-glow-run-9090
END:VEVENT

END:VCALENDAR
