BEGIN:VCALENDAR
VERSION:2.0
PRODID:-//ChamberMaster//Event Calendar 2.0//EN
METHOD:PUBLISH
X-PUBLISHED-TTL:P3D
REFRESH-INTERVAL:P3D
CALSCALE:GREGORIAN
BEGIN:VEVENT
DTSTART:20180926T160000Z
DTEND:20180926T210000Z
X-MICROSOFT-CDO-ALLDAYEVENT:FALSE
SUMMARY:United Way Day of Action
DESCRIPTION:Teams of Volunteers will have lunch and go out to work at various non-profit organizations throughout the community.
X-ALT-DESC;FMTTYPE=text/html:Teams of Volunteers will have lunch and go out to work at various non-profit organizations throughout the community.
LOCATION:Southwest Georgia Bank Training Room
UID:e.570.7875
SEQUENCE:3
DTSTAMP:20260426T021408Z
URL:http://business.moultriechamber.com/events/details/united-way-day-of-action-7875
END:VEVENT

END:VCALENDAR
