BEGIN:VCALENDAR
VERSION:2.0
PRODID:-//ChamberMaster//Event Calendar 2.0//EN
METHOD:PUBLISH
X-PUBLISHED-TTL:P3D
REFRESH-INTERVAL:P3D
CALSCALE:GREGORIAN
BEGIN:VEVENT
DTSTART:20181031T220000Z
DTEND:20181101T000000Z
X-MICROSOFT-CDO-ALLDAYEVENT:FALSE
SUMMARY:Trunk or Treat
DESCRIPTION:Come Trunk or Treating with the City of Moultrie Police Department.
X-ALT-DESC;FMTTYPE=text/html:Come Trunk or Treating with the City of Moultrie Police Department.
LOCATION:City of Moultrie Police Department
UID:e.570.9449
SEQUENCE:3
DTSTAMP:20260426T004336Z
URL:http://business.moultriechamber.com/events/details/trunk-or-treat-9449
END:VEVENT

END:VCALENDAR
