BEGIN:VCALENDAR
VERSION:2.0
PRODID:-//ChamberMaster//Event Calendar 2.0//EN
METHOD:PUBLISH
X-PUBLISHED-TTL:P3D
REFRESH-INTERVAL:P3D
CALSCALE:GREGORIAN
BEGIN:VEVENT
DTSTART:20201101T220000Z
DTEND:20201102T000000Z
X-MICROSOFT-CDO-ALLDAYEVENT:FALSE
SUMMARY:Trunk or Treat
DESCRIPTION:Join us on November 1st from 5-7pm in the south parking lot on our campus for a Trunk or Treat event for your entire family! Social distanced with safe activities included. Come on out and join the fun!
X-ALT-DESC;FMTTYPE=text/html:Join us on November 1st from 5-7pm in the south parking lot on our campus for a Trunk or Treat event for your entire family! Social distanced with safe activities included. Come on out and join the fun!
LOCATION:First Baptist Church of Moultrie
UID:e.570.11217
SEQUENCE:3
DTSTAMP:20260424T163832Z
URL:http://business.moultriechamber.com/events/details/trunk-or-treat-11-01-2020-11217
END:VEVENT

END:VCALENDAR
