BEGIN:VCALENDAR
VERSION:2.0
PRODID:-//ChamberMaster//Event Calendar 2.0//EN
METHOD:PUBLISH
X-PUBLISHED-TTL:P3D
REFRESH-INTERVAL:P3D
CALSCALE:GREGORIAN
BEGIN:VEVENT
DTSTART:20201028T040000Z
DTEND:20201031T035500Z
X-MICROSOFT-CDO-ALLDAYEVENT:FALSE
SUMMARY:Troy University Free Application Days
DESCRIPTION:You are invited to join us for our Online Worldwide Open House through Troy University October 28-30\, 2020. Open House is a free informational session where you'll be provided information on how to start your TROY application process\, gain unique access to faculty experts and information about academic programs\, scholarships\, federal financial aid\, transferring credits\, choosing a career and much more. Don't miss this chance to learn about your opportunities as a TROY Trojan! Before the event\, you will receive an email with a link to and instructions on participating in the Virtual Open House event.
X-ALT-DESC;FMTTYPE=text/html:You are invited to join us for our Online Worldwide Open House through Troy University October 28-30\, 2020. Open House is a free informational session where you&#39\;ll be provided information on how to start your TROY application process\, gain unique access to faculty experts and information about academic programs\, scholarships\, federal financial aid\, transferring credits\, choosing a career and much more. Don&#39\;t miss this chance to learn about your opportunities as a TROY Trojan! Before the event\, you will receive an email with a link to and instructions on participating in the Virtual Open House event.
LOCATION:Virtual
UID:e.570.11216
SEQUENCE:3
DTSTAMP:20260424T174857Z
URL:http://business.moultriechamber.com/events/details/troy-university-free-application-days-11216
END:VEVENT

END:VCALENDAR
