BEGIN:VCALENDAR
VERSION:2.0
PRODID:-//ChamberMaster//Event Calendar 2.0//EN
METHOD:PUBLISH
X-PUBLISHED-TTL:P3D
REFRESH-INTERVAL:P3D
CALSCALE:GREGORIAN
BEGIN:VEVENT
DTSTART:20190411T123000Z
DTEND:20190411T133000Z
X-MICROSOFT-CDO-ALLDAYEVENT:FALSE
SUMMARY:Moultrie-Colquitt County Chamber of Commerce Tourism & Marketing Committee Meeting
DESCRIPTION:Our Tourism & Marketing Committee meets the second Thursday of every month. The mission of the Tourism & Marketing Committee is to capitalize on existing assets\, to research the possibility of additional promotions in order to improve tourism and relocation infrastructure\, and to make Moultrie-Colquitt County an ever-increasing tourism destination. The committee?s goal is to raise bed tax revenues and retail sales from the increase in commerce due to tourism and the relocation of individuals to Moultrie and Colquitt County.
X-ALT-DESC;FMTTYPE=text/html:Our Tourism &amp\; Marketing Committee meets the second Thursday of every month. The mission of the Tourism &amp\; Marketing Committee is to capitalize on existing assets\, to research the possibility of additional promotions in order to improve tourism and relocation infrastructure\, and to make Moultrie-Colquitt County an ever-increasing tourism destination. The committee?s goal is to raise bed tax revenues and retail sales from the increase in commerce due to tourism and the relocation of individuals to Moultrie and Colquitt County.
LOCATION:Moultrie-Colquitt County Chamber of Commerce\, 2nd Floor
UID:e.570.9171
SEQUENCE:3
DTSTAMP:20260425T165331Z
URL:http://business.moultriechamber.com/events/details/tourism-marketing-committee-meeting-04-11-2019-9171
END:VEVENT

END:VCALENDAR
