BEGIN:VCALENDAR
VERSION:2.0
PRODID:-//ChamberMaster//Event Calendar 2.0//EN
METHOD:PUBLISH
X-PUBLISHED-TTL:P3D
REFRESH-INTERVAL:P3D
CALSCALE:GREGORIAN
BEGIN:VEVENT
DTSTART:20210712T140000Z
DTEND:20210730T200000Z
X-MICROSOFT-CDO-ALLDAYEVENT:FALSE
SUMMARY:Theatre Camp
DESCRIPTION:July 12th   16th Tech Learn the ins and outs of staging\, sets\, costumes\, makeup\, lights and sound. July 19th   23rd Dance How to move on stage. Learn basic stage movement and several commonly used dance combos for the stage. July 26th   30th Performance Putting it all together! There will be a short performance on the last day of camp. Rising 1st   rising 10th graders 10:00 am   4:00 pm Monday   Friday $150 for all three weeks Instructor Mimi Bair No prior stage experience is necessary. Bring a sack lunch\, water bottle and snack each day.
X-ALT-DESC;FMTTYPE=text/html:July 12th &ndash\; 16th Tech Learn the ins and outs of staging\, sets\, costumes\, makeup\, lights and sound. July 19th &ndash\; 23rd Dance How to move on stage. Learn basic stage movement and several commonly used dance combos for the stage. July 26th &ndash\; 30th Performance Putting it all together! There will be a short performance on the last day of camp. Rising 1st &ndash\; rising 10th graders 10:00 am &ndash\; 4:00 pm Monday &ndash\; Friday $150 for all three weeks Instructor Mimi Bair No prior stage experience is necessary. Bring a sack lunch\, water bottle and snack each day.
LOCATION:Colquitt County Arts Center 401 7th Avenue S.W. Moultrie\, GA 31768
UID:e.570.11351
SEQUENCE:3
DTSTAMP:20260424T073717Z
URL:http://business.moultriechamber.com/events/details/theatre-camp-11351
END:VEVENT

END:VCALENDAR
