BEGIN:VCALENDAR
VERSION:2.0
PRODID:-//ChamberMaster//Event Calendar 2.0//EN
METHOD:PUBLISH
X-PUBLISHED-TTL:P3D
REFRESH-INTERVAL:P3D
CALSCALE:GREGORIAN
BEGIN:VEVENT
DTSTART:20190412T230000Z
DTEND:20190413T003000Z
X-MICROSOFT-CDO-ALLDAYEVENT:FALSE
SUMMARY:The Rainbow Fish Performance
DESCRIPTION:The Rainbow Fish Fri\, April 12th at 7:00 pm Sat & Sun April 13th & 14th at 2:00 pm Ages K - 5th Grade 5th Grade & Under: $5 6th Grade & Older: $10 When Rainbow Fish refuses to share his vibrant\, shimmering scales\, the whole ocean seems to turn against the vain creature. Unhappy that no one adores him anymore\, the Rainbow Fish seeks out the wise Octopus who helps the young fish learn that it's far better to be admired for being kind than for being beautiful.
X-ALT-DESC;FMTTYPE=text/html:The Rainbow Fish Fri\, April 12th at 7:00 pm Sat &amp\; Sun April 13th &amp\; 14th at 2:00 pm Ages K - 5th Grade 5th Grade &amp\; Under: $5 6th Grade &amp\; Older: $10 When Rainbow Fish refuses to share his vibrant\, shimmering scales\, the whole ocean seems to turn against the vain creature. Unhappy that no one adores him anymore\, the Rainbow Fish seeks out the wise Octopus who helps the young fish learn that it&rsquo\;s far better to be admired for being kind than for being beautiful.
LOCATION:Colquitt County Arts Center 401 7th Avenue S.W. Moultrie\, GA 31768
UID:e.570.9491
SEQUENCE:3
DTSTAMP:20260425T164951Z
URL:http://business.moultriechamber.com/events/details/the-rainbow-fish-performance-9491
END:VEVENT

END:VCALENDAR
